Workbook

Sheet P1 Presupuesto Aprobado
A2: POLICIA NACIONAL
A3: COMITÉ DE RETIRO DE LA POLICIA NACIONAL
A4: AÑO 2026
A6: Presupuesto de Gastos y Aplicaciones Financieras
A7: En RD$
A9: Detalle | C9: PRESUPUESTO APROBADO | D9: PRESUPUESTO MODIFICADO
A10: 2 - GASTOS
A11: 2.1 - REMUNERACIONES Y CONTRIBUCIONES | C11: =SUM(C12:C16) -> 52292350 | D11: =SUM(D12:D16) -> 0
B12: 2.1.1 - REMUNERACIONES | C12: 41762500 | D12: 0
B13: 2.1.2 - SOBRESUELDOS | C13: 7792800 | D13: 0
B14: 2.1.3 - DIETAS Y GASTOS DE REPRESENTACIÓN | C14: 0 | D14: 0
B15: 2.1.4 - GRATIFICACIONES Y BONIFICACIONES | C15: 0 | D15: 0
B16: 2.1.5 - CONTRIBUCIONES A LA SEGURIDAD SOCIAL | C16: 2737050 | D16: 0
A17: 2.2 - CONTRATACIÓN DE SERVICIOS | C17: =SUM(C18:C26) -> 403056600 | D17: =SUM(D18:D26) -> 0
B18: 2.2.1 - SERVICIOS BÁSICOS | C18: 1941600 | D18: 0
B19: 2.2.2 - PUBLICIDAD, IMPRESIÓN Y ENCUADERNACIÓN | C19: 0 | D19: 0
B20: 2.2.3 - VIÁTICOS | C20: 0 | D20: 0
B21: 2.2.4 - TRANSPORTE Y ALMACENAJE | C21: 0 | D21: 0
B22: 2.2.5 - ALQUILERES Y RENTAS | C22: 0 | D22: 0
B23: 2.2.6 - SEGUROS | C23: 400015000 | D23: 0
B24: 2.2.7 - SERVICIOS DE CONSERVACIÓN, REPARACIONES MENORES E INSTALACIONES TEMPORALES | C24: 1100000 | D24: 0
B25: 2.2.8 - OTROS SERVICIOS NO INCLUIDOS EN CONCEPTOS ANTERIORES | C25: 0 | D25: 0
B26: 2.2.9 - OTRAS CONTRATACIONES DE SERVICIOS | C26: 0 | D26: 0
A27: 2.3 - MATERIALES Y SUMINISTROS | C27: =SUM(C28:C36) -> 31131416 | D27: =SUM(D28:D36) -> 0
B28: 2.3.1 - ALIMENTOS Y PRODUCTOS AGROFORESTALES | C28: 0 | D28: 0
B29: 2.3.2 - TEXTILES Y VESTUARIOS | C29: 0 | D29: 0
B30: 2.3.3 - PRODUCTOS DE PAPEL, CARTÓN E IMPRESOS | C30: 1198462 | D30: 0
B31: 2.3.4 - PRODUCTOS FARMACÉUTICOS | C31: 22000000 | D31: 0
B32: 2.3.5 - PRODUCTOS DE CUERO, CAUCHO Y PLÁSTICO | C32: 0 | D32: 0
B33: 2.3.6 - PRODUCTOS DE MINERALES, METÁLICOS Y NO METÁLICOS | C33: 0 | D33: 0
B34: 2.3.7 - COMBUSTIBLES, LUBRICANTES, PRODUCTOS QUÍMICOS Y CONEXOS | C34: 6168400 | D34: 0
B35: 2.3.8 - GASTOS QUE SE ASIGNARÁN DURANTE EL EJERCICIO (ART. 32 Y 33 LEY 423-06) | C35: 0 | D35: 0
B36: 2.3.9 - PRODUCTOS Y ÚTILES VARIOS | C36: 1764554 | D36: 0
A37: 2.4 - TRANSFERENCIAS CORRIENTES | C37: =SUM(C38:C44) -> 1100000 | D37: =SUM(D38:D44) -> 0
B38: 2.4.1 - TRANSFERENCIAS CORRIENTES AL SECTOR PRIVADO | C38: 1100000 | D38: 0
B39: 2.4.2 - TRANSFERENCIAS CORRIENTES AL GOBIERNO GENERAL NACIONAL | C39: 0 | D39: 0
B40: 2.4.3 - TRANSFERENCIAS CORRIENTES A GOBIERNOS GENERALES LOCALES | C40: 0 | D40: 0
B41: 2.4.4 - TRANSFERENCIAS CORRIENTES A EMPRESAS PÚBLICAS NO FINANCIERAS | C41: 0 | D41: 0
B42: 2.4.5 - TRANSFERENCIAS CORRIENTES A INSTITUCIONES PÚBLICAS FINANCIERAS | C42: 0 | D42: 0
B43: 2.4.7 - TRANSFERENCIAS CORRIENTES AL SECTOR EXTERNO | C43: 0 | D43: 0
...

Sheet P2 Presupuesto Aprobado-Ejec
A1: POLICIA NACIONAL
A2: COMITÉ DE RETIRO DE LA POLICIA NACIONAL
A3: AÑO 2026
A5: Ejecución de Gastos y Aplicaciones Financieras
A6: En RD$
A7: |
A8: Detalle | B8: Presupuesto Aprobado | C8: Presupuesto Modificado | D8: Gasto devengado
D9: Enero | E9: Febrero | F9: Marzo | G9: Abril | H9: Mayo | I9: Junio | J9: Julio | K9: Agosto | L9: Septiembre | M9: Octubre | N9: Noviembre | O9: Diciembre | P9: Total
A10: 2 - GASTOS
A11: 2.1 - REMUNERACIONES Y CONTRIBUCIONES | B11: =SUM(B12:B16) -> 52292350 | C11: =SUM(C12:C16) -> 0 | D11: =SUM(D12:D16) -> 4085023 | E11: =SUM(E12:E16) -> 4079813 | F11: =SUM(F12:F16) -> 0 | G11: =SUM(G12:G16) -> 0 | H11: =SUM(H12:H16) -> 0 | I11: =SUM(I12:I16) -> 0 | ... P11: =SUM(P12:P16) -> 8164836
A12: 2.1.1 - REMUNERACIONES | B12: ='P1 Presupuesto Aprobado'!C12 -> 41762500 | C12: 0 | D12: 3213000 | E12: 3203000 | F12: 0 | G12: 0 | H12: 0 | I12: 0 | J12: 0 | K12: 0 | L12: 0 | M12: 0 | N12: 0 | O12: 0 | P12: =SUM(D12:O12) -> 6416000
A13: 2.1.2 - SOBRESUELDOS | B13: ='P1 Presupuesto Aprobado'!C13 -> 7792800 | C13: 0 | D13: 643900 | E13: 649400 | F13: 0 | G13: 0 | H13: 0 | I13: 0 | J13: 0 | K13: 0 | L13: 0 | M13: 0 | N13: 0 | O13: 0 | P13: =SUM(D13:O13) -> 1293300
A14: 2.1.3 - DIETAS Y GASTOS DE REPRESENTACIÓN | B14: ='P1 Presupuesto Aprobado'!C14 -> 0 | C14: 0 | D14: 0 | E14: 0 | F14: 0 | G14: 0 | H14: 0 | I14: 0 | J14: 0 | K14: 0 | L14: 0 | M14: 0 | N14: 0 | O14: 0 | P14: =SUM(D14:O14) -> 0
A15: 2.1.4 - GRATIFICACIONES Y BONIFICACIONES | B15: ='P1 Presupuesto Aprobado'!C15 -> 0 | C15: 0 | D15: 0 | E15: 0 | F15: 0 | G15: 0 | H15: 0 | I15: 0 | J15: 0 | K15: 0 | L15: 0 | M15: 0 | N15: 0 | O15: 0 | P15: =SUM(D15:O15) -> 0
A16: 2.1.5 - CONTRIBUCIONES A LA SEGURIDAD SOCIAL | B16: ='P1 Presupuesto Aprobado'!C16 -> 2737050 | C16: 0 | D16: 228123 | E16: 227413 | F16: 0 | G16: 0 | H16: 0 | I16: 0 | J16: 0 | K16: 0 | L16: 0 | M16: 0 | N16: 0 | O16: 0 | P16: =SUM(D16:O16) -> 455536
A17: 2.2 - CONTRATACIÓN DE SERVICIOS | B17: =SUM(B18:B26) -> 403056600 | C17: =SUM(C18:C26) -> 0 | D17: =SUM(D18:D26) -> 17107445 | E17: =SUM(E18:E26) -> 17127385 | F17: =SUM(F18:F26) -> 0 | G17: =SUM(G18:G26) -> 0 | H17: =SUM(H18:H26) -> 0 | I17: =SUM(I18:I26) -> 0 | ... P17: =SUM(P18:P26) -> 34234830
A18: 2.2.1 - SERVICIOS BÁSICOS | B18: ='P1 Presupuesto Aprobado'!C18 -> 1941600 | D18: 104230.88 | E18: 77372.1 | F18: 0 | G18: 0 | H18: 0 | I18: 0 | J18: 0 | K18: 0 | L18: 0 | M18: 0 | N18: 0 | O18: 0 | P18: =SUM(D18:O18) -> 181602.98
A19: 2.2.2 - PUBLICIDAD, IMPRESIÓN Y ENCUADERNACIÓN | B19: ='P1 Presupuesto Aprobado'!C19 -> 0 | D19: 0 | E19: 0 | F19: 0 | G19: 0 | H19: 0 | I19: 0 | J19: 0 | K19: 0 | L19: 0 | M19: 0 | N19: 0 | O19: 0 | P19: =SUM(D19:O19) -> 0
A20: 2.2.3 - VIÁTICOS | B20: ='P1 Presupuesto Aprobado'!C20 -> 0 | D20: 0 | E20: 0 | F20: 0 | G20: 0 | H20: 0 | I20: 0 | J20: 0 | K20: 0 | L20: 0 | M20: 0 | N20: 0 | O20: 0 | P20: =SUM(D20:O20) -> 0
A21: 2.2.4 - TRANSPORTE Y ALMACENAJE | B21: ='P1 Presupuesto Aprobado'!C21 -> 0 | D21: 0 | E21: 0 | F21: 0 | G21: 0 | H21: 0 | I21: 0 | J21: 0 | K21: 0 | L21: 0 | M21: 0 | N21: 0 | O21: 0 | P21: =SUM(D21:O21) -> 0
A22: 2.2.5 - ALQUILERES Y RENTAS | B22: ='P1 Presupuesto Aprobado'!C22 -> 0 | D22: 0 | E22: 0 | F22: 0 | G22: 0 | H22: 0 | I22: 0 | J22: 0 | K22: 0 | L22: 0 | M22: 0 | N22: 0 | O22: 0 | P22: =SUM(D22:O22) -> 0
A23: 2.2.6 - SEGUROS | B23: ='P1 Presupuesto Aprobado'!C23 -> 400015000 | D23: 17003214 | E23: 17050013 | F23: 0 | G23: 0 | H23: 0 | I23: 0 | J23: 0 | K23: 0 | L23: 0 | M23: 0 | N23: 0 | O23: 0 | P23: =SUM(D23:O23) -> 34053227
A24: 2.2.7 - SERVICIOS DE CONSERVACIÓN, REPARACIONES MENORES E INSTALACIONES TEMPORALES | B24: ='P1 Presupuesto Aprobado'!C24 -> 1100000 | D24: 0 | E24: 0 | F24: 0 | G24: 0 | H24: 0 | I24: 0 | J24: 0 | K24: 0 | L24: 0 | M24: 0 | N24: 0 | O24: 0 | P24: =SUM(D24:O24) -> 0
A25: 2.2.8 - OTROS SERVICIOS NO INCLUIDOS EN CONCEPTOS ANTERIORES | B25: ='P1 Presupuesto Aprobado'!C25 -> 0 | D25: 0 | E25: 0 | F25: 0 | G25: 0 | H25: 0 | I25: 0 | J25: 0 | K25: 0 | L25: 0 | M25: 0 | N25: 0 | O25: 0 | P25: =SUM(D25:O25) -> 0
A26: 2.2.9 - OTRAS CONTRATACIONES DE SERVICIOS | B26: ='P1 Presupuesto Aprobado'!C26 -> 0 | D26: 0 | E26: 0 | F26: 0 | G26: 0 | H26: 0 | I26: 0 | J26: 0 | K26: 0 | L26: 0 | M26: 0 | N26: 0 | O26: 0 | P26: =SUM(D26:O26) -> 0
A27: 2.3 - MATERIALES Y SUMINISTROS | B27: =SUM(B28:B36) -> 31131416 | C27: =SUM(C28:C36) -> 0 | D27: =SUM(D28:D36) -> 0 | E27: =SUM(E28:E36) -> 0 | F27: =SUM(F28:F36) -> 0 | G27: =SUM(G28:G36) -> 0 | H27: =SUM(H28:H36) -> 0 | I27: =SUM(I28:I36) -> 0 | ... P27: =SUM(P28:P36) -> 0
A28: 2.3.1 - ALIMENTOS Y PRODUCTOS AGROFORESTALES | B28: ='P1 Presupuesto Aprobado'!C28 -> 0 | D28: 0 | E28: 0 | F28: 0 | G28: 0 | H28: 0 | I28: 0 | J28: 0 | K28: 0 | L28: 0 | M28: 0 | N28: 0 | O28: 0 | P28: =SUM(D28:O28) -> 0
A29: 2.3.2 - TEXTILES Y VESTUARIOS | B29: ='P1 Presupuesto Aprobado'!C29 -> 0 | D29: 0 | E29: 0 | F29: 0 | G29: 0 | H29: 0 | I29: 0 | J29: 0 | K29: 0 | L29: 0 | M29: 0 | N29: 0 | O29: 0 | P29: =SUM(D29:O29) -> 0
A30: 2.3.3 - PRODUCTOS DE PAPEL, CARTÓN E IMPRESOS | B30: ='P1 Presupuesto Aprobado'!C30 -> 1198462 | D30: 0 | E30: 0 | F30: 0 | G30: 0 | H30: 0 | I30: 0 | J30: 0 | K30: 0 | L30: 0 | M30: 0 | N30: 0 | O30: 0 | P30: =SUM(D30:O30) -> 0
A31: 2.3.4 - PRODUCTOS FARMACÉUTICOS | B31: ='P1 Presupuesto Aprobado'!C31 -> 22000000 | D31: 0 | E31: 0 | F31: 0 | G31: 0 | H31: 0 | I31: 0 | J31: 0 | K31: 0 | L31: 0 | M31: 0 | N31: 0 | O31: 0 | P31: =SUM(D31:O31) -> 0
A32: 2.3.5 - PRODUCTOS DE CUERO, CAUCHO Y PLÁSTICO | B32: ='P1 Presupuesto Aprobado'!C32 -> 0 | D32: 0 | E32: 0 | F32: 0 | G32: 0 | H32: 0 | I32: 0 | J32: 0 | K32: 0 | L32: 0 | M32: 0 | N32: 0 | O32: 0 | P32: =SUM(D32:O32) -> 0
A33: 2.3.6 - PRODUCTOS DE MINERALES, METÁLICOS Y NO METÁLICOS | B33: ='P1 Presupuesto Aprobado'!C33 -> 0 | D33: 0 | E33: 0 | F33: 0 | G33: 0 | H33: 0 | I33: 0 | J33: 0 | K33: 0 | L33: 0 | M33: 0 | N33: 0 | O33: 0 | P33: =SUM(D33:O33) -> 0
A34: 2.3.7 - COMBUSTIBLES, LUBRICANTES, PRODUCTOS QUÍMICOS Y CONEXOS | B34: ='P1 Presupuesto Aprobado'!C34 -> 6168400 | D34: 0 | E34: 0 | F34: 0 | G34: 0 | H34: 0 | I34: 0 | J34: 0 | K34: 0 | L34: 0 | M34: 0 | N34: 0 | O34: 0 | P34: =SUM(D34:O34) -> 0
A35: 2.3.8 - GASTOS QUE SE ASIGNARÁN DURANTE EL EJERCICIO (ART. 32 Y 33 LEY 423-06) | B35: ='P1 Presupuesto Aprobado'!C35 -> 0 | D35: 0 | E35: 0 | F35: 0 | G35: 0 | H35: 0 | I35: 0 | J35: 0 | K35: 0 | L35: 0 | M35: 0 | N35: 0 | O35: 0 | P35: =SUM(D35:O35) -> 0
A36: 2.3.9 - PRODUCTOS Y ÚTILES VARIOS | B36: ='P1 Presupuesto Aprobado'!C36 -> 1764554 | D36: 0 | E36: 0 | F36: 0 | G36: 0 | H36: 0 | I36: 0 | J36: 0 | K36: 0 | L36: 0 | M36: 0 | N36: 0 | O36: 0 | P36: =SUM(D36:O36) -> 0
A37: 2.4 - TRANSFERENCIAS CORRIENTES | B37: =SUM(B38:B44) -> 1100000 | C37: =SUM(C38:C44) -> 0 | D37: =SUM(D38:D44) -> 0 | E37: =SUM(E38:E44) -> 1100000 | F37: =SUM(F38:F44) -> 0 | G37: =SUM(G38:G44) -> 0 | H37: =SUM(H38:H44) -> 0 | I37: =SUM(I38:I44) -> 0 | ... P37: =SUM(P38:P44) -> 1100000
A38: 2.4.1 - TRANSFERENCIAS CORRIENTES AL SECTOR PRIVADO | B38: ='P1 Presupuesto Aprobado'!C38 -> 1100000 | D38: 0 | E38: 1100000 | F38: 0 | G38: 0 | H38: 0 | I38: 0 | J38: 0 | K38: 0 | L38: 0 | M38: 0 | N38: 0 | O38: 0 | P38: =SUM(D38:O38) -> 1100000
A39: 2.4.2 - TRANSFERENCIAS CORRIENTES AL GOBIERNO GENERAL NACIONAL | B39: ='P1 Presupuesto Aprobado'!C39 -> 0 | D39: 0 | E39: 0 | F39: 0 | G39: 0 | H39: 0 | I39: 0 | J39: 0 | K39: 0 | L39: 0 | M39: 0 | N39: 0 | O39: 0 | P39: =SUM(D39:O39) -> 0
A40: 2.4.3 - TRANSFERENCIAS CORRIENTES A GOBIERNOS GENERALES LOCALES | B40: ='P1 Presupuesto Aprobado'!C40 -> 0 | D40: 0 | E40: 0 | F40: 0 | G40: 0 | H40: 0 | I40: 0 | J40: 0 | K40: 0 | L40: 0 | M40: 0 | N40: 0 | O40: 0 | P40: =SUM(D40:O40) -> 0
A41: 2.4.4 - TRANSFERENCIAS CORRIENTES A EMPRESAS PÚBLICAS NO FINANCIERAS | B41: ='P1 Presupuesto Aprobado'!C41 -> 0 | C41: 0 | D41: 0 | E41: 0 | F41: 0 | G41: 0 | H41: 0 | I41: 0 | J41: 0 | K41: 0 | L41: 0 | M41: 0 | N41: 0 | O41: 0 | P41: =SUM(D41:O41) -> 0
...

Sheet P3 Ejecucion
A1: POLICIA NACIONAL
A2: COMITÉ DE RETIRO DE LA POLICIA NACIONAL
A3: AÑO 2026
A5: Ejecución de Gastos y Aplicaciones Financieras
A6: En RD$
A7: |
A8: Detalle | B8: Gasto devengado
B9: Enero | C9: Febrero | D9: Marzo | E9: Abril | F9: Mayo | G9: Junio | H9: Julio | I9: Agosto | J9: Septiembre | K9: Octubre | L9: Noviembre | M9: Diciembre | N9: Total
A10: 2 - GASTOS
A11: 2.1 - REMUNERACIONES Y CONTRIBUCIONES | B11: =SUM(B12:B16) -> 4085023 | C11: =SUM(C12:C16) -> 4079813 | D11: =SUM(D12:D16) -> 0 | E11: =SUM(E12:E16) -> 0 | F11: =SUM(F12:F16) -> 0 | G11: =SUM(G12:G16) -> 0 | H11: =SUM(H12:H16) -> 0 | I11: =SUM(I12:I16) -> 0 | ... N11: =SUM(N12:N16) -> 8164836
A12: 2.1.1 - REMUNERACIONES | B12: =+'P2 Presupuesto Aprobado-Ejec'!D12 -> 3213000 | C12: =+'P2 Presupuesto Aprobado-Ejec'!E12 -> 3203000 | D12: =+'P2 Presupuesto Aprobado-Ejec'!F12 -> 0 | E12: =+'P2 Presupuesto Aprobado-Ejec'!G12 -> 0 | F12: =+'P2 Presupuesto Aprobado-Ejec'!H12 -> 0 | G12: =+'P2 Presupuesto Aprobado-Ejec'!I12 -> 0 | H12: =+'P2 Presupuesto Aprobado-Ejec'!J12 -> 0 | I12: =+'P2 Presupuesto Aprobado-Ejec'!K12 -> 0 | ... M12: =+'P2 Presupuesto Aprobado-Ejec'!O12 -> 0 | N12: =SUM(B12:M12) -> 6416000
A13: 2.1.2 - SOBRESUELDOS | B13: =+'P2 Presupuesto Aprobado-Ejec'!D13 -> 643900 | C13: =+'P2 Presupuesto Aprobado-Ejec'!E13 -> 649400 | D13: =+'P2 Presupuesto Aprobado-Ejec'!F13 -> 0 | E13: =+'P2 Presupuesto Aprobado-Ejec'!G13 -> 0 | F13: =+'P2 Presupuesto Aprobado-Ejec'!H13 -> 0 | G13: =+'P2 Presupuesto Aprobado-Ejec'!I13 -> 0 | H13: =+'P2 Presupuesto Aprobado-Ejec'!J13 -> 0 | I13: =+'P2 Presupuesto Aprobado-Ejec'!K13 -> 0 | ... M13: =+'P2 Presupuesto Aprobado-Ejec'!O13 -> 0 | N13: =SUM(B13:M13) -> 1293300
A14: 2.1.3 - DIETAS Y GASTOS DE REPRESENTACIÓN | B14: =+'P2 Presupuesto Aprobado-Ejec'!D14 -> 0 | C14: =+'P2 Presupuesto Aprobado-Ejec'!E14 -> 0 | D14: =+'P2 Presupuesto Aprobado-Ejec'!F14 -> 0 | E14: =+'P2 Presupuesto Aprobado-Ejec'!G14 -> 0 | F14: =+'P2 Presupuesto Aprobado-Ejec'!H14 -> 0 | G14: =+'P2 Presupuesto Aprobado-Ejec'!I14 -> 0 | H14: =+'P2 Presupuesto Aprobado-Ejec'!J14 -> 0 | I14: =+'P2 Presupuesto Aprobado-Ejec'!K14 -> 0 | ... M14: =+'P2 Presupuesto Aprobado-Ejec'!O14 -> 0 | N14: =SUM(B14:M14) -> 0
A15: 2.1.4 - GRATIFICACIONES Y BONIFICACIONES | B15: =+'P2 Presupuesto Aprobado-Ejec'!D15 -> 0 | C15: =+'P2 Presupuesto Aprobado-Ejec'!E15 -> 0 | D15: =+'P2 Presupuesto Aprobado-Ejec'!F15 -> 0 | E15: =+'P2 Presupuesto Aprobado-Ejec'!G15 -> 0 | F15: =+'P2 Presupuesto Aprobado-Ejec'!H15 -> 0 | G15: =+'P2 Presupuesto Aprobado-Ejec'!I15 -> 0 | H15: =+'P2 Presupuesto Aprobado-Ejec'!J15 -> 0 | I15: =+'P2 Presupuesto Aprobado-Ejec'!K15 -> 0 | ... M15: =+'P2 Presupuesto Aprobado-Ejec'!O15 -> 0 | N15: =SUM(B15:M15) -> 0
A16: 2.1.5 - CONTRIBUCIONES A LA SEGURIDAD SOCIAL | B16: =+'P2 Presupuesto Aprobado-Ejec'!D16 -> 228123 | C16: =+'P2 Presupuesto Aprobado-Ejec'!E16 -> 227413 | D16: =+'P2 Presupuesto Aprobado-Ejec'!F16 -> 0 | E16: =+'P2 Presupuesto Aprobado-Ejec'!G16 -> 0 | F16: =+'P2 Presupuesto Aprobado-Ejec'!H16 -> 0 | G16: =+'P2 Presupuesto Aprobado-Ejec'!I16 -> 0 | H16: =+'P2 Presupuesto Aprobado-Ejec'!J16 -> 0 | I16: =+'P2 Presupuesto Aprobado-Ejec'!K16 -> 0 | ... M16: =+'P2 Presupuesto Aprobado-Ejec'!O16 -> 0 | N16: =SUM(B16:M16) -> 455536
A17: 2.2 - CONTRATACIÓN DE SERVICIOS | B17: =SUM(B18:B26) -> 17107445 | C17: =SUM(C18:C26) -> 17127385 | D17: =SUM(D18:D26) -> 0 | E17: =SUM(E18:E26) -> 0 | F17: =SUM(F18:F26) -> 0 | G17: =SUM(G18:G26) -> 0 | H17: =SUM(H18:H26) -> 0 | I17: =SUM(I18:I26) -> 0 | ... N17: =SUM(N18:N26) -> 34234830
A18: 2.2.1 - SERVICIOS BÁSICOS | B18: =+'P2 Presupuesto Aprobado-Ejec'!D18 -> 104230.88 | C18: =+'P2 Presupuesto Aprobado-Ejec'!E18 -> 77372.1 | D18: =+'P2 Presupuesto Aprobado-Ejec'!F18 -> 0 | E18: =+'P2 Presupuesto Aprobado-Ejec'!G18 -> 0 | F18: =+'P2 Presupuesto Aprobado-Ejec'!H18 -> 0 | G18: =+'P2 Presupuesto Aprobado-Ejec'!I18 -> 0 | H18: =+'P2 Presupuesto Aprobado-Ejec'!J18 -> 0 | I18: =+'P2 Presupuesto Aprobado-Ejec'!K18 -> 0 | ... M18: =+'P2 Presupuesto Aprobado-Ejec'!O18 -> 0 | N18: =SUM(B18:M18) -> 181602.98
A19: 2.2.2 - PUBLICIDAD, IMPRESIÓN Y ENCUADERNACIÓN | B19: =+'P2 Presupuesto Aprobado-Ejec'!D19 -> 0 | C19: =+'P2 Presupuesto Aprobado-Ejec'!E19 -> 0 | D19: =+'P2 Presupuesto Aprobado-Ejec'!F19 -> 0 | E19: =+'P2 Presupuesto Aprobado-Ejec'!G19 -> 0 | F19: =+'P2 Presupuesto Aprobado-Ejec'!H19 -> 0 | G19: =+'P2 Presupuesto Aprobado-Ejec'!I19 -> 0 | H19: =+'P2 Presupuesto Aprobado-Ejec'!J19 -> 0 | I19: =+'P2 Presupuesto Aprobado-Ejec'!K19 -> 0 | ... M19: =+'P2 Presupuesto Aprobado-Ejec'!O19 -> 0 | N19: =SUM(B19:M19) -> 0
A20: 2.2.3 - VIÁTICOS | B20: =+'P2 Presupuesto Aprobado-Ejec'!D20 -> 0 | C20: =+'P2 Presupuesto Aprobado-Ejec'!E20 -> 0 | D20: =+'P2 Presupuesto Aprobado-Ejec'!F20 -> 0 | E20: =+'P2 Presupuesto Aprobado-Ejec'!G20 -> 0 | F20: =+'P2 Presupuesto Aprobado-Ejec'!H20 -> 0 | G20: =+'P2 Presupuesto Aprobado-Ejec'!I20 -> 0 | H20: =+'P2 Presupuesto Aprobado-Ejec'!J20 -> 0 | I20: =+'P2 Presupuesto Aprobado-Ejec'!K20 -> 0 | ... M20: =+'P2 Presupuesto Aprobado-Ejec'!O20 -> 0 | N20: =SUM(B20:M20) -> 0
A21: 2.2.4 - TRANSPORTE Y ALMACENAJE | B21: =+'P2 Presupuesto Aprobado-Ejec'!D21 -> 0 | C21: =+'P2 Presupuesto Aprobado-Ejec'!E21 -> 0 | D21: =+'P2 Presupuesto Aprobado-Ejec'!F21 -> 0 | E21: =+'P2 Presupuesto Aprobado-Ejec'!G21 -> 0 | F21: =+'P2 Presupuesto Aprobado-Ejec'!H21 -> 0 | G21: =+'P2 Presupuesto Aprobado-Ejec'!I21 -> 0 | H21: =+'P2 Presupuesto Aprobado-Ejec'!J21 -> 0 | I21: =+'P2 Presupuesto Aprobado-Ejec'!K21 -> 0 | ... M21: =+'P2 Presupuesto Aprobado-Ejec'!O21 -> 0 | N21: =SUM(B21:M21) -> 0
A22: 2.2.5 - ALQUILERES Y RENTAS | B22: =+'P2 Presupuesto Aprobado-Ejec'!D22 -> 0 | C22: =+'P2 Presupuesto Aprobado-Ejec'!E22 -> 0 | D22: =+'P2 Presupuesto Aprobado-Ejec'!F22 -> 0 | E22: =+'P2 Presupuesto Aprobado-Ejec'!G22 -> 0 | F22: =+'P2 Presupuesto Aprobado-Ejec'!H22 -> 0 | G22: =+'P2 Presupuesto Aprobado-Ejec'!I22 -> 0 | H22: =+'P2 Presupuesto Aprobado-Ejec'!J22 -> 0 | I22: =+'P2 Presupuesto Aprobado-Ejec'!K22 -> 0 | ... M22: =+'P2 Presupuesto Aprobado-Ejec'!O22 -> 0 | N22: =SUM(B22:M22) -> 0
A23: 2.2.6 - SEGUROS | B23: =+'P2 Presupuesto Aprobado-Ejec'!D23 -> 17003214 | C23: =+'P2 Presupuesto Aprobado-Ejec'!E23 -> 17050013 | D23: =+'P2 Presupuesto Aprobado-Ejec'!F23 -> 0 | E23: =+'P2 Presupuesto Aprobado-Ejec'!G23 -> 0 | F23: =+'P2 Presupuesto Aprobado-Ejec'!H23 -> 0 | G23: =+'P2 Presupuesto Aprobado-Ejec'!I23 -> 0 | H23: =+'P2 Presupuesto Aprobado-Ejec'!J23 -> 0 | I23: =+'P2 Presupuesto Aprobado-Ejec'!K23 -> 0 | ... M23: =+'P2 Presupuesto Aprobado-Ejec'!O23 -> 0 | N23: =SUM(B23:M23) -> 34053227
A24: 2.2.7 - SERVICIOS DE CONSERVACIÓN, REPARACIONES MENORES E INSTALACIONES TEMPORALES | B24: =+'P2 Presupuesto Aprobado-Ejec'!D24 -> 0 | C24: =+'P2 Presupuesto Aprobado-Ejec'!E24 -> 0 | D24: =+'P2 Presupuesto Aprobado-Ejec'!F24 -> 0 | E24: =+'P2 Presupuesto Aprobado-Ejec'!G24 -> 0 | F24: =+'P2 Presupuesto Aprobado-Ejec'!H24 -> 0 | G24: =+'P2 Presupuesto Aprobado-Ejec'!I24 -> 0 | H24: =+'P2 Presupuesto Aprobado-Ejec'!J24 -> 0 | I24: =+'P2 Presupuesto Aprobado-Ejec'!K24 -> 0 | ... M24: =+'P2 Presupuesto Aprobado-Ejec'!O24 -> 0 | N24: =SUM(B24:M24) -> 0
A25: 2.2.8 - OTROS SERVICIOS NO INCLUIDOS EN CONCEPTOS ANTERIORES | B25: =+'P2 Presupuesto Aprobado-Ejec'!D25 -> 0 | C25: =+'P2 Presupuesto Aprobado-Ejec'!E25 -> 0 | D25: =+'P2 Presupuesto Aprobado-Ejec'!F25 -> 0 | E25: =+'P2 Presupuesto Aprobado-Ejec'!G25 -> 0 | F25: =+'P2 Presupuesto Aprobado-Ejec'!H25 -> 0 | G25: =+'P2 Presupuesto Aprobado-Ejec'!I25 -> 0 | H25: =+'P2 Presupuesto Aprobado-Ejec'!J25 -> 0 | I25: =+'P2 Presupuesto Aprobado-Ejec'!K25 -> 0 | ... M25: =+'P2 Presupuesto Aprobado-Ejec'!O25 -> 0 | N25: =SUM(B25:M25) -> 0
A26: 2.2.9 - OTRAS CONTRATACIONES DE SERVICIOS | B26: =+'P2 Presupuesto Aprobado-Ejec'!D26 -> 0 | C26: =+'P2 Presupuesto Aprobado-Ejec'!E26 -> 0 | D26: =+'P2 Presupuesto Aprobado-Ejec'!F26 -> 0 | E26: =+'P2 Presupuesto Aprobado-Ejec'!G26 -> 0 | F26: =+'P2 Presupuesto Aprobado-Ejec'!H26 -> 0 | G26: =+'P2 Presupuesto Aprobado-Ejec'!I26 -> 0 | H26: =+'P2 Presupuesto Aprobado-Ejec'!J26 -> 0 | I26: =+'P2 Presupuesto Aprobado-Ejec'!K26 -> 0 | ... M26: =+'P2 Presupuesto Aprobado-Ejec'!O26 -> 0 | N26: =SUM(B26:M26) -> 0
A27: 2.3 - MATERIALES Y SUMINISTROS | B27: =SUM(B28:B36) -> 0 | C27: =SUM(C28:C36) -> 0 | D27: =SUM(D28:D36) -> 0 | E27: =SUM(E28:E36) -> 0 | F27: =SUM(F28:F36) -> 0 | G27: =SUM(G28:G36) -> 0 | H27: =SUM(H28:H36) -> 0 | I27: =SUM(I28:I36) -> 0 | ... N27: =SUM(N28:N36) -> 0
A28: 2.3.1 - ALIMENTOS Y PRODUCTOS AGROFORESTALES | B28: =+'P2 Presupuesto Aprobado-Ejec'!D28 -> 0 | C28: =+'P2 Presupuesto Aprobado-Ejec'!E28 -> 0 | D28: =+'P2 Presupuesto Aprobado-Ejec'!F28 -> 0 | E28: =+'P2 Presupuesto Aprobado-Ejec'!G28 -> 0 | F28: =+'P2 Presupuesto Aprobado-Ejec'!H28 -> 0 | G28: =+'P2 Presupuesto Aprobado-Ejec'!I28 -> 0 | H28: =+'P2 Presupuesto Aprobado-Ejec'!J28 -> 0 | I28: =+'P2 Presupuesto Aprobado-Ejec'!K28 -> 0 | ... M28: =+'P2 Presupuesto Aprobado-Ejec'!O28 -> 0 | N28: =SUM(B28:M28) -> 0
A29: 2.3.2 - TEXTILES Y VESTUARIOS | B29: =+'P2 Presupuesto Aprobado-Ejec'!D29 -> 0 | C29: =+'P2 Presupuesto Aprobado-Ejec'!E29 -> 0 | D29: =+'P2 Presupuesto Aprobado-Ejec'!F29 -> 0 | E29: =+'P2 Presupuesto Aprobado-Ejec'!G29 -> 0 | F29: =+'P2 Presupuesto Aprobado-Ejec'!H29 -> 0 | G29: =+'P2 Presupuesto Aprobado-Ejec'!I29 -> 0 | H29: =+'P2 Presupuesto Aprobado-Ejec'!J29 -> 0 | I29: =+'P2 Presupuesto Aprobado-Ejec'!K29 -> 0 | ... M29: =+'P2 Presupuesto Aprobado-Ejec'!O29 -> 0 | N29: =SUM(B29:M29) -> 0
A30: 2.3.3 - PRODUCTOS DE PAPEL, CARTÓN E IMPRESOS | B30: =+'P2 Presupuesto Aprobado-Ejec'!D30 -> 0 | C30: =+'P2 Presupuesto Aprobado-Ejec'!E30 -> 0 | D30: =+'P2 Presupuesto Aprobado-Ejec'!F30 -> 0 | E30: =+'P2 Presupuesto Aprobado-Ejec'!G30 -> 0 | F30: =+'P2 Presupuesto Aprobado-Ejec'!H30 -> 0 | G30: =+'P2 Presupuesto Aprobado-Ejec'!I30 -> 0 | H30: =+'P2 Presupuesto Aprobado-Ejec'!J30 -> 0 | I30: =+'P2 Presupuesto Aprobado-Ejec'!K30 -> 0 | ... M30: =+'P2 Presupuesto Aprobado-Ejec'!O30 -> 0 | N30: =SUM(B30:M30) -> 0
A31: 2.3.4 - PRODUCTOS FARMACÉUTICOS | B31: =+'P2 Presupuesto Aprobado-Ejec'!D31 -> 0 | C31: =+'P2 Presupuesto Aprobado-Ejec'!E31 -> 0 | D31: =+'P2 Presupuesto Aprobado-Ejec'!F31 -> 0 | E31: =+'P2 Presupuesto Aprobado-Ejec'!G31 -> 0 | F31: =+'P2 Presupuesto Aprobado-Ejec'!H31 -> 0 | G31: =+'P2 Presupuesto Aprobado-Ejec'!I31 -> 0 | H31: =+'P2 Presupuesto Aprobado-Ejec'!J31 -> 0 | I31: =+'P2 Presupuesto Aprobado-Ejec'!K31 -> 0 | ... M31: =+'P2 Presupuesto Aprobado-Ejec'!O31 -> 0 | N31: =SUM(B31:M31) -> 0
A32: 2.3.5 - PRODUCTOS DE CUERO, CAUCHO Y PLÁSTICO | B32: =+'P2 Presupuesto Aprobado-Ejec'!D32 -> 0 | C32: =+'P2 Presupuesto Aprobado-Ejec'!E32 -> 0 | D32: =+'P2 Presupuesto Aprobado-Ejec'!F32 -> 0 | E32: =+'P2 Presupuesto Aprobado-Ejec'!G32 -> 0 | F32: =+'P2 Presupuesto Aprobado-Ejec'!H32 -> 0 | G32: =+'P2 Presupuesto Aprobado-Ejec'!I32 -> 0 | H32: =+'P2 Presupuesto Aprobado-Ejec'!J32 -> 0 | I32: =+'P2 Presupuesto Aprobado-Ejec'!K32 -> 0 | ... M32: =+'P2 Presupuesto Aprobado-Ejec'!O32 -> 0 | N32: =SUM(B32:M32) -> 0
A33: 2.3.6 - PRODUCTOS DE MINERALES, METÁLICOS Y NO METÁLICOS | B33: =+'P2 Presupuesto Aprobado-Ejec'!D33 -> 0 | C33: =+'P2 Presupuesto Aprobado-Ejec'!E33 -> 0 | D33: =+'P2 Presupuesto Aprobado-Ejec'!F33 -> 0 | E33: =+'P2 Presupuesto Aprobado-Ejec'!G33 -> 0 | F33: =+'P2 Presupuesto Aprobado-Ejec'!H33 -> 0 | G33: =+'P2 Presupuesto Aprobado-Ejec'!I33 -> 0 | H33: =+'P2 Presupuesto Aprobado-Ejec'!J33 -> 0 | I33: =+'P2 Presupuesto Aprobado-Ejec'!K33 -> 0 | ... M33: =+'P2 Presupuesto Aprobado-Ejec'!O33 -> 0 | N33: =SUM(B33:M33) -> 0
A34: 2.3.7 - COMBUSTIBLES, LUBRICANTES, PRODUCTOS QUÍMICOS Y CONEXOS | B34: =+'P2 Presupuesto Aprobado-Ejec'!D34 -> 0 | C34: =+'P2 Presupuesto Aprobado-Ejec'!E34 -> 0 | D34: =+'P2 Presupuesto Aprobado-Ejec'!F34 -> 0 | E34: =+'P2 Presupuesto Aprobado-Ejec'!G34 -> 0 | F34: =+'P2 Presupuesto Aprobado-Ejec'!H34 -> 0 | G34: =+'P2 Presupuesto Aprobado-Ejec'!I34 -> 0 | H34: =+'P2 Presupuesto Aprobado-Ejec'!J34 -> 0 | I34: =+'P2 Presupuesto Aprobado-Ejec'!K34 -> 0 | ... M34: =+'P2 Presupuesto Aprobado-Ejec'!O34 -> 0 | N34: =SUM(B34:M34) -> 0
A35: 2.3.8 - GASTOS QUE SE ASIGNARÁN DURANTE EL EJERCICIO (ART. 32 Y 33 LEY 423-06) | B35: =+'P2 Presupuesto Aprobado-Ejec'!D35 -> 0 | C35: =+'P2 Presupuesto Aprobado-Ejec'!E35 -> 0 | D35: =+'P2 Presupuesto Aprobado-Ejec'!F35 -> 0 | E35: =+'P2 Presupuesto Aprobado-Ejec'!G35 -> 0 | F35: =+'P2 Presupuesto Aprobado-Ejec'!H35 -> 0 | G35: =+'P2 Presupuesto Aprobado-Ejec'!I35 -> 0 | H35: =+'P2 Presupuesto Aprobado-Ejec'!J35 -> 0 | I35: =+'P2 Presupuesto Aprobado-Ejec'!K35 -> 0 | ... M35: =+'P2 Presupuesto Aprobado-Ejec'!O35 -> 0 | N35: =SUM(B35:M35) -> 0
A36: 2.3.9 - PRODUCTOS Y ÚTILES VARIOS | B36: =+'P2 Presupuesto Aprobado-Ejec'!D36 -> 0 | C36: =+'P2 Presupuesto Aprobado-Ejec'!E36 -> 0 | D36: =+'P2 Presupuesto Aprobado-Ejec'!F36 -> 0 | E36: =+'P2 Presupuesto Aprobado-Ejec'!G36 -> 0 | F36: =+'P2 Presupuesto Aprobado-Ejec'!H36 -> 0 | G36: =+'P2 Presupuesto Aprobado-Ejec'!I36 -> 0 | H36: =+'P2 Presupuesto Aprobado-Ejec'!J36 -> 0 | I36: =+'P2 Presupuesto Aprobado-Ejec'!K36 -> 0 | ... M36: =+'P2 Presupuesto Aprobado-Ejec'!O36 -> 0 | N36: =SUM(B36:M36) -> 0
A37: 2.4 - TRANSFERENCIAS CORRIENTES | B37: =SUM(B38:B44) -> 0 | C37: =SUM(C38:C44) -> 1100000 | D37: =SUM(D38:D44) -> 0 | E37: =SUM(E38:E44) -> 0 | F37: =SUM(F38:F44) -> 0 | G37: =SUM(G38:G44) -> 0 | H37: =SUM(H38:H44) -> 0 | I37: =SUM(I38:I44) -> 0 | ... N37: =SUM(N38:N44) -> 1100000
A38: 2.4.1 - TRANSFERENCIAS CORRIENTES AL SECTOR PRIVADO | B38: =+'P2 Presupuesto Aprobado-Ejec'!D38 -> 0 | C38: =+'P2 Presupuesto Aprobado-Ejec'!E38 -> 1100000 | D38: =+'P2 Presupuesto Aprobado-Ejec'!F38 -> 0 | E38: =+'P2 Presupuesto Aprobado-Ejec'!G38 -> 0 | F38: =+'P2 Presupuesto Aprobado-Ejec'!H38 -> 0 | G38: =+'P2 Presupuesto Aprobado-Ejec'!I38 -> 0 | H38: =+'P2 Presupuesto Aprobado-Ejec'!J38 -> 0 | I38: =+'P2 Presupuesto Aprobado-Ejec'!K38 -> 0 | ... M38: =+'P2 Presupuesto Aprobado-Ejec'!O38 -> 0 | N38: =SUM(B38:M38) -> 1100000
A39: 2.4.2 - TRANSFERENCIAS CORRIENTES AL GOBIERNO GENERAL NACIONAL | B39: =+'P2 Presupuesto Aprobado-Ejec'!D39 -> 0 | C39: =+'P2 Presupuesto Aprobado-Ejec'!E39 -> 0 | D39: =+'P2 Presupuesto Aprobado-Ejec'!F39 -> 0 | E39: =+'P2 Presupuesto Aprobado-Ejec'!G39 -> 0 | F39: =+'P2 Presupuesto Aprobado-Ejec'!H39 -> 0 | G39: =+'P2 Presupuesto Aprobado-Ejec'!I39 -> 0 | H39: =+'P2 Presupuesto Aprobado-Ejec'!J39 -> 0 | I39: =+'P2 Presupuesto Aprobado-Ejec'!K39 -> 0 | ... M39: =+'P2 Presupuesto Aprobado-Ejec'!O39 -> 0 | N39: =SUM(B39:M39) -> 0
A40: 2.4.3 - TRANSFERENCIAS CORRIENTES A GOBIERNOS GENERALES LOCALES | B40: =+'P2 Presupuesto Aprobado-Ejec'!D40 -> 0 | C40: =+'P2 Presupuesto Aprobado-Ejec'!E40 -> 0 | D40: =+'P2 Presupuesto Aprobado-Ejec'!F40 -> 0 | E40: =+'P2 Presupuesto Aprobado-Ejec'!G40 -> 0 | F40: =+'P2 Presupuesto Aprobado-Ejec'!H40 -> 0 | G40: =+'P2 Presupuesto Aprobado-Ejec'!I40 -> 0 | H40: =+'P2 Presupuesto Aprobado-Ejec'!J40 -> 0 | I40: =+'P2 Presupuesto Aprobado-Ejec'!K40 -> 0 | ... M40: =+'P2 Presupuesto Aprobado-Ejec'!O40 -> 0 | N40: =SUM(B40:M40) -> 0
A41: 2.4.4 - TRANSFERENCIAS CORRIENTES A EMPRESAS PÚBLICAS NO FINANCIERAS | B41: =+'P2 Presupuesto Aprobado-Ejec'!D41 -> 0 | C41: =+'P2 Presupuesto Aprobado-Ejec'!E41 -> 0 | D41: =+'P2 Presupuesto Aprobado-Ejec'!F41 -> 0 | E41: =+'P2 Presupuesto Aprobado-Ejec'!G41 -> 0 | F41: =+'P2 Presupuesto Aprobado-Ejec'!H41 -> 0 | G41: =+'P2 Presupuesto Aprobado-Ejec'!I41 -> 0 | H41: =+'P2 Presupuesto Aprobado-Ejec'!J41 -> 0 | I41: =+'P2 Presupuesto Aprobado-Ejec'!K41 -> 0 | ... M41: =+'P2 Presupuesto Aprobado-Ejec'!O41 -> 0 | N41: =SUM(B41:M41) -> 0
...
